BEGIN:VCALENDAR
VERSION:2.0
PRODID:-//chikkutakku.com//RDFCal 1.0//EN
X-WR-CALDESC:GoogleカレンダーやiCalendar形式情報を共有シェ
 アしましょう。近所のイベントから全国のイベントま
 で今日のイベント検索やスケジュールを決めるならち
 っくたっく
X-WR-CALNAME:ちっくたっく
X-WR-TIMEZONE:UTC
BEGIN:VEVENT
SUMMARY:CAS Board
DTSTART;VALUE=DATE-TIME:20260511T210000Z
DTEND;VALUE=DATE-TIME:20260511T223000Z
UID:660990302190
DESCRIPTION:CAS Board
LOCATION:Congregation Ahavath Sholom\, 15 North St\, Great Barrington\, MA
  01230\, USA
END:VEVENT
END:VCALENDAR
