BEGIN:VCALENDAR
VERSION:2.0
PRODID:-//chikkutakku.com//RDFCal 1.0//EN
X-WR-CALDESC:GoogleカレンダーやiCalendar形式情報を共有シェ
 アしましょう。近所のイベントから全国のイベントま
 で今日のイベント検索やスケジュールを決めるならち
 っくたっく
X-WR-CALNAME:ちっくたっく
X-WR-TIMEZONE:UTC
BEGIN:VEVENT
SUMMARY:U13、TRM
DTSTART;VALUE=DATE:20260504
DTEND;VALUE=DATE:20260505
UID:666527649637
DESCRIPTION:9時 vs 大阪セントラル（25分×8）\n\n※参加費2\,
 000円（全員送迎）\n\n※メンバーは決まり次第掲載しま
 す。\n\n※担当\n樋川コーチ
LOCATION:服部緑地 人工芝サッカー場\, 日本、〒561-0873 大
 阪府豊中市服部緑地１−１
END:VEVENT
END:VCALENDAR
