BEGIN:VCALENDAR
VERSION:2.0
PRODID:-//chikkutakku.com//RDFCal 1.0//EN
X-WR-CALDESC:GoogleカレンダーやiCalendar形式情報を共有シェ
 アしましょう。近所のイベントから全国のイベントま
 で今日のイベント検索やスケジュールを決めるならち
 っくたっく
X-WR-CALNAME:ちっくたっく
X-WR-TIMEZONE:UTC
BEGIN:VEVENT
SUMMARY:Booth²Booth vol.01
DTSTART;VALUE=DATE-TIME:20260424T120000Z
DTEND;VALUE=DATE-TIME:20260424T160000Z
UID:667713585897
DESCRIPTION:【イベント主催者】\n　napochaan\n【イベント内
 容】\n　VRDJイベント\ndubstep\, jerseryclub\, jesusclub\, hardcore\
 , 東方\, hyperflip\, などなどオールジャンルの DJ イベン
 ト\n【イベントジャンル】\n　音楽系イベント\n【参加
 条件（モデル、人数制限など）】\n　\n【参加方法】\n
 　Group の Instance からお入りください\n【備考】\n　
LOCATION:
END:VEVENT
END:VCALENDAR
