BEGIN:VCALENDAR
VERSION:2.0
PRODID:-//chikkutakku.com//RDFCal 1.0//EN
X-WR-CALDESC:GoogleカレンダーやiCalendar形式情報を共有シェ
 アしましょう。近所のイベントから全国のイベントま
 で今日のイベント検索やスケジュールを決めるならち
 っくたっく
X-WR-CALNAME:ちっくたっく
X-WR-TIMEZONE:UTC
BEGIN:VEVENT
SUMMARY:HS Co-Ed Bball vs. HPHS (UPDATED)
DTSTART;VALUE=DATE-TIME:20260420T230000Z
DTEND;VALUE=DATE-TIME:20260421T003000Z
UID:668541946533
DESCRIPTION:AWAY game.HS Co-Ed Basketball Schedule has been updated. Coach
  is Aaron Williams and is reachable by phone (916)308-9951.
LOCATION:Health Professions High School\, 451 McClatchy Way\, Sacramento\,
  CA 95818\, USA
END:VEVENT
END:VCALENDAR
