BEGIN:VCALENDAR
VERSION:2.0
PRODID:-//chikkutakku.com//RDFCal 1.0//EN
X-WR-CALDESC:GoogleカレンダーやiCalendar形式情報を共有シェ
 アしましょう。近所のイベントから全国のイベントま
 で今日のイベント検索やスケジュールを決めるならち
 っくたっく
X-WR-CALNAME:ちっくたっく
X-WR-TIMEZONE:UTC
BEGIN:VEVENT
SUMMARY:眼科手術 Vol.39、 No.2、 2026
DTSTART;VALUE=DATE:20260430
DTEND;VALUE=DATE:20260501
UID:679260472818
DESCRIPTION:2026-05-01眼科手術 Vol.39、 No.2、 2026太田俊彦・
 豊川紀子メディカル葵出版
LOCATION:
END:VEVENT
END:VCALENDAR
