BEGIN:VCALENDAR
VERSION:2.0
PRODID:-//chikkutakku.com//RDFCal 1.0//EN
X-WR-CALDESC:GoogleカレンダーやiCalendar形式情報を共有シェ
 アしましょう。近所のイベントから全国のイベントま
 で今日のイベント検索やスケジュールを決めるならち
 っくたっく
X-WR-CALNAME:ちっくたっく
X-WR-TIMEZONE:UTC
BEGIN:VEVENT
SUMMARY:SAKAMOTO DAYS 映画ノベライズ みらい文庫版
DTSTART;VALUE=DATE:20260421
DTEND;VALUE=DATE:20260422
UID:679723419049
DESCRIPTION:2026-04-22SAKAMOTO DAYS 映画ノベライズ みらい文庫
 版鈴木 祐斗/はのまきみ/福田 雄一集英社
LOCATION:
END:VEVENT
END:VCALENDAR
