BEGIN:VCALENDAR
VERSION:2.0
PRODID:-//chikkutakku.com//RDFCal 1.0//EN
X-WR-CALDESC:GoogleカレンダーやiCalendar形式情報を共有シェ
 アしましょう。近所のイベントから全国のイベントま
 で今日のイベント検索やスケジュールを決めるならち
 っくたっく
X-WR-CALNAME:ちっくたっく
X-WR-TIMEZONE:UTC
BEGIN:VEVENT
SUMMARY:黄金の経験値 IX 特定災害生物「魔王」大戦バッ
 ドエンド（9）
DTSTART;VALUE=DATE:20260508
DTEND;VALUE=DATE:20260509
UID:682208327535
DESCRIPTION:2026-05-09黄金の経験値 IX 特定災害生物「魔王」
 大戦バッドエンド（9）原純/fixro2nKADOKAWA
LOCATION:
END:VEVENT
END:VCALENDAR
