BEGIN:VCALENDAR
VERSION:2.0
PRODID:-//chikkutakku.com//RDFCal 1.0//EN
X-WR-CALDESC:GoogleカレンダーやiCalendar形式情報を共有シェ
 アしましょう。近所のイベントから全国のイベントま
 で今日のイベント検索やスケジュールを決めるならち
 っくたっく
X-WR-CALNAME:ちっくたっく
X-WR-TIMEZONE:UTC
BEGIN:VEVENT
SUMMARY:PK4 Closing Program
DTSTART;VALUE=DATE-TIME:20260518T140000Z
DTEND;VALUE=DATE-TIME:20260518T150000Z
UID:686743032079
DESCRIPTION:Barrett Complex
LOCATION:
END:VEVENT
END:VCALENDAR
