BEGIN:VCALENDAR
VERSION:2.0
PRODID:-//chikkutakku.com//RDFCal 1.0//EN
X-WR-CALDESC:GoogleカレンダーやiCalendar形式情報を共有シェ
 アしましょう。近所のイベントから全国のイベントま
 で今日のイベント検索やスケジュールを決めるならち
 っくたっく
X-WR-CALNAME:ちっくたっく
X-WR-TIMEZONE:UTC
BEGIN:VEVENT
SUMMARY:近藤直司＋中村としまる＋藤掛正隆
DTSTART;VALUE=DATE:20260505
DTEND;VALUE=DATE:20260506
UID:693927601492
DESCRIPTION:open 19:00 / start 19:30\n近藤直司＋中村としまる＋
 藤掛正隆\n()\n投げ銭制(別途チャージ500円+ドリンクオー
 ダー)\n()\n予約方法\n・予約受付メールアドレス:barisshee@
 keh.biglobe.ne.jp\nタイトルを「5/6予約」とし、\n上記アド
 レスに氏名(フルネーム)と人数(最大2名)と電話番号をお
 知らせください。整理番号を返信いたします。\n予約は
 5月5日24時で締め切ります。\nそれ以前に定員に達した
 場合はその時点で予約終了となります。\n()\nメールに
 てご予約、整理番号順の入場となります。\n携帯からメ
 ールされる方は、PCからのメールを受け取れるようにし
 ておいてください。\n()\nなお事前連絡無しの無断のキ
 ャンセルの場合、\n今後の予約ができなくなる可能性も
 ありますので、\n充分ご承知おきください。\n\n【関連/
 参考ページ】\nhttp://www.bloc.jp/barisshee/ （千駄木Bar Isshee
 ）
LOCATION:千駄木Bar Isshee【関東】
END:VEVENT
END:VCALENDAR
