BEGIN:VCALENDAR
VERSION:2.0
PRODID:-//chikkutakku.com//RDFCal 1.0//EN
X-WR-CALDESC:GoogleカレンダーやiCalendar形式情報を共有シェ
 アしましょう。近所のイベントから全国のイベントま
 で今日のイベント検索やスケジュールを決めるならち
 っくたっく
X-WR-CALNAME:ちっくたっく
X-WR-TIMEZONE:UTC
BEGIN:VEVENT
SUMMARY:週刊女性「健康」Special 備えあれば認知症も怖く
 ない！
DTSTART;VALUE=DATE:20260519
DTEND;VALUE=DATE:20260520
UID:695958399876
DESCRIPTION:2026-05-20週刊女性「健康」Special 備えあれば認
 知症も怖くない！「週刊女性」編集部主婦と生活社
LOCATION:
END:VEVENT
END:VCALENDAR
