BEGIN:VCALENDAR
VERSION:2.0
PRODID:-//chikkutakku.com//RDFCal 1.0//EN
X-WR-CALDESC:GoogleカレンダーやiCalendar形式情報を共有シェ
 アしましょう。近所のイベントから全国のイベントま
 で今日のイベント検索やスケジュールを決めるならち
 っくたっく
X-WR-CALNAME:ちっくたっく
X-WR-TIMEZONE:UTC
BEGIN:VEVENT
SUMMARY:御器所 なんや
DTSTART;VALUE=DATE-TIME:20260522T090000Z
DTEND;VALUE=DATE-TIME:20260522T120000Z
UID:699964036760
DESCRIPTION:5/22（金）御器所 なんや\nopen19:00 start19:30 3000円
 d別\n「ふたりのうちゅう」\nうたとギターとベースでど
 こまで翔べるか？\n出演：上地gacha一也（UprightBass）、
 森香（ギターと歌）\n世界中のありとあらゆる音楽家と
 宇宙をつくりづづけるベーシスト通称ガチャピンを名
 古屋に招いてのライブです。\n466-0022\n名古屋市昭和区
 塩付通１-４７-４
LOCATION:
END:VEVENT
END:VCALENDAR
