BEGIN:VCALENDAR
VERSION:2.0
PRODID:-//chikkutakku.com//RDFCal 1.0//EN
X-WR-CALDESC:GoogleカレンダーやiCalendar形式情報を共有シェ
 アしましょう。近所のイベントから全国のイベントま
 で今日のイベント検索やスケジュールを決めるならち
 っくたっく
X-WR-CALNAME:ちっくたっく
X-WR-TIMEZONE:UTC
BEGIN:VEVENT
SUMMARY:【Android 対応】P5X Virtual Phantom Club ～ペルソナ同好
 会～【第10回】
DTSTART;VALUE=DATE-TIME:20260424T130000Z
DTEND;VALUE=DATE-TIME:20260424T140000Z
UID:700586126072
DESCRIPTION:【イベント主催者】\n　キタキタ（kitakita）\n
 【イベント内容】\n　【イベント内容】\nペルソナシリ
 ーズのゲーム話など語り合えるイベントです。\nペルソ
 ナシリーズに興味ある方も大歓迎です!!\n\n【イベント
 開催時ルール】\n\n・集会の妨げになる妨害禁止\n・暴
 言、嫌がらせ、喧嘩禁止\n・アバターに関しては時と場
 合によりますが、著作権アバターを使用していた場合
 は変更のお願いをする場合がございます。\n\n以上のル
 ールの厳守をお願い致します。\n\n\n【イベントジャン
 ル】\n　初心者向けイベント\, 集会イベント\n【参加条
 件（モデル、人数制限など）】\n　ペルソナシリーズが
 好きな人、興味がある人\n\n\n【イベントジャンル】\n　
 その他交流会\n【参加条件（モデル、人数制限など）】
 \n　32人\n【参加方法】\n　【イベント開催時ルール】\n\
 n・集会の妨げになる妨害禁止\n・暴言、嫌がらせ、喧
 嘩禁止\n・アバターに関しては時と場合によりますが、
 著作権アバターを使用していた場合は変更のお願いを
 する場合がございます。\n\n以上のルールの厳守をお願
 い致します。\n\n\n【イベントジャンル】\n　初心者向け
 イベント\, 集会イベント\n【参加条件（モデル、人数制
 限など）】\n　ペルソナシリーズが好きな人、興味があ
 る人\n\n【備考】\n　
LOCATION:
END:VEVENT
END:VCALENDAR
