BEGIN:VCALENDAR
VERSION:2.0
PRODID:-//chikkutakku.com//RDFCal 1.0//EN
X-WR-CALDESC:GoogleカレンダーやiCalendar形式情報を共有シェ
 アしましょう。近所のイベントから全国のイベントま
 で今日のイベント検索やスケジュールを決めるならち
 っくたっく
X-WR-CALNAME:ちっくたっく
X-WR-TIMEZONE:UTC
BEGIN:VEVENT
SUMMARY:コウペンちゃん #56 「田植え」
DTSTART;VALUE=DATE-TIME:20260425T234000Z
DTEND;VALUE=DATE-TIME:20260425T234300Z
UID:706386524116
DESCRIPTION:56 / 田植え / 
LOCATION:アニメLIVE
END:VEVENT
END:VCALENDAR
