BEGIN:VCALENDAR
VERSION:2.0
PRODID:-//chikkutakku.com//RDFCal 1.0//EN
X-WR-CALDESC:GoogleカレンダーやiCalendar形式情報を共有シェ
 アしましょう。近所のイベントから全国のイベントま
 で今日のイベント検索やスケジュールを決めるならち
 っくたっく
X-WR-CALNAME:ちっくたっく
X-WR-TIMEZONE:UTC
BEGIN:VEVENT
SUMMARY:P川越昼練習（キムラヤ）
DTSTART;VALUE=DATE-TIME:20260506T041000Z
DTEND;VALUE=DATE-TIME:20260506T055000Z
UID:707311383477
DESCRIPTION:P川越昼練習（キムラヤ）
LOCATION:キムラヤ八幡通りルーム\, 日本、〒350-0043 埼玉
 県川越市新富町２丁目１５−１０
END:VEVENT
END:VCALENDAR
