BEGIN:VCALENDAR
VERSION:2.0
PRODID:-//chikkutakku.com//RDFCal 1.0//EN
X-WR-CALDESC:GoogleカレンダーやiCalendar形式情報を共有シェ
 アしましょう。近所のイベントから全国のイベントま
 で今日のイベント検索やスケジュールを決めるならち
 っくたっく
X-WR-CALNAME:ちっくたっく
X-WR-TIMEZONE:UTC
BEGIN:VEVENT
SUMMARY:国松希根太 連鎖する息吹
DTSTART;VALUE=DATE:20260507
DTEND;VALUE=DATE:20260508
UID:708798955654
DESCRIPTION:2026-05-08国松希根太 連鎖する息吹国松 希根太/
 四方 幸子/吉崎 元章/赤坂 憲雄/文月 悠光求龍堂
LOCATION:
END:VEVENT
END:VCALENDAR
