BEGIN:VCALENDAR
VERSION:2.0
PRODID:-//chikkutakku.com//RDFCal 1.0//EN
X-WR-CALDESC:GoogleカレンダーやiCalendar形式情報を共有シェ
 アしましょう。近所のイベントから全国のイベントま
 で今日のイベント検索やスケジュールを決めるならち
 っくたっく
X-WR-CALNAME:ちっくたっく
X-WR-TIMEZONE:UTC
BEGIN:VEVENT
SUMMARY:新宿サーキット
DTSTART;VALUE=DATE:20260503
DTEND;VALUE=DATE:20260504
UID:712885199597
DESCRIPTION:5/4(月祝) at 新宿11会場\n「歌舞伎町 UP GATE↑↑20
 26 」\n\n各日¥7\,700 / 通し¥14\,000\n\n🎫一般チケット発売
 中！\nr10.to/kabukiage2026\n\n💻公式HP\nkabukicho-upgate.com\n\n.
LOCATION:
END:VEVENT
END:VCALENDAR
