BEGIN:VCALENDAR
VERSION:2.0
PRODID:-//chikkutakku.com//RDFCal 1.0//EN
X-WR-CALDESC:GoogleカレンダーやiCalendar形式情報を共有シェ
 アしましょう。近所のイベントから全国のイベントま
 で今日のイベント検索やスケジュールを決めるならち
 っくたっく
X-WR-CALNAME:ちっくたっく
X-WR-TIMEZONE:UTC
BEGIN:VEVENT
SUMMARY:でかいお姉さんカフェ　八尺カフェ（第43回）
DTSTART;VALUE=DATE-TIME:20260423T130000Z
DTEND;VALUE=DATE-TIME:20260423T140000Z
UID:713369253700
DESCRIPTION:【イベント主催者】\n　でかいお姉さんカフェ
 　八尺カフェ（第42回）\n【イベント内容】\n　ほぼ八
 尺様サイズ（3mまで）のでかいお姉さんとふれあうこと
 を目的としたカフェイベントです。\n【イベントジャン
 ル】\n　店舗系イベント\, 定期イベント\n【参加条件（
 モデル、人数制限など）】\n　・事前にUnityなどで作成
 していただく必要がありますが、3mまでの大きいお姉さ
 んアバターを持ち込んで大きいお姉さんになることも
 できます！(なでる際は頭上のタグマーカーの確認とな
 でられる方に一声かけていただくようにお願いします
 。\n\n・アバタースケーリング機能を使用して、大きい
 お姉さんになることもできます。（アバタースケーリ
 ング機能をご利用の際は会場内の看板をご覧ください
 ）\n\n【参加方法】\n　4月23日（木）当日にでかいお姉
 さんカフェ　八尺カフェ公式X（Twitter）@hasshaku_cafe　でJ
 oin先とインスタンス分けを告知します。\nJoin先のイン
 スタンスリーダーにフレンド申請またはJoinで参加でき
 ます。\n【備考】\n　
LOCATION:
END:VEVENT
END:VCALENDAR
