BEGIN:VCALENDAR
VERSION:2.0
PRODID:-//chikkutakku.com//RDFCal 1.0//EN
X-WR-CALDESC:GoogleカレンダーやiCalendar形式情報を共有シェ
 アしましょう。近所のイベントから全国のイベントま
 で今日のイベント検索やスケジュールを決めるならち
 っくたっく
X-WR-CALNAME:ちっくたっく
X-WR-TIMEZONE:UTC
BEGIN:VEVENT
SUMMARY:［最速入門］ ChatGPTに任せる Excelマクロ&VBA 面倒
 なプログラミングは秒で片づけよう
DTSTART;VALUE=DATE:20260521
DTEND;VALUE=DATE:20260522
UID:714552822310
DESCRIPTION:2026-05-22［最速入門］ ChatGPTに任せる Excelマク
 ロ&VBA 面倒なプログラミングは秒で片づけよう大村 あ
 つし技術評論社
LOCATION:
END:VEVENT
END:VCALENDAR
