BEGIN:VCALENDAR
VERSION:2.0
PRODID:-//chikkutakku.com//RDFCal 1.0//EN
X-WR-CALDESC:GoogleカレンダーやiCalendar形式情報を共有シェ
 アしましょう。近所のイベントから全国のイベントま
 で今日のイベント検索やスケジュールを決めるならち
 っくたっく
X-WR-CALNAME:ちっくたっく
X-WR-TIMEZONE:UTC
BEGIN:VEVENT
SUMMARY:悲しみからの旅立ち
DTSTART;VALUE=DATE:20260514
DTEND;VALUE=DATE:20260515
UID:715588652064
DESCRIPTION:2026-05-15悲しみからの旅立ちベティ・ニールズ/
 広木夏子ハーパーコリンズ・ジャパン
LOCATION:
END:VEVENT
END:VCALENDAR
