BEGIN:VCALENDAR
VERSION:2.0
PRODID:-//chikkutakku.com//RDFCal 1.0//EN
X-WR-CALDESC:GoogleカレンダーやiCalendar形式情報を共有シェ
 アしましょう。近所のイベントから全国のイベントま
 で今日のイベント検索やスケジュールを決めるならち
 っくたっく
X-WR-CALNAME:ちっくたっく
X-WR-TIMEZONE:UTC
BEGIN:VEVENT
SUMMARY:【楽天ブックス限定全巻購入特典+先着特典+他】T
 Vアニメ『透明男と人間女〜そのうち夫婦になるふたり
 〜』 上巻【Blu-ray】(2Lサイズキャラファインマット（2
 種セット）+シリアルナンバー入り応募券+クリアカード
 +他)
DTSTART;VALUE=DATE:20260512
DTEND;VALUE=DATE:20260513
UID:718611890901
DESCRIPTION:2026-05-13【楽天ブックス限定全巻購入特典+先着
 特典+他】TVアニメ『透明男と人間女〜そのうち夫婦に
 なるふたり〜』 上巻【Blu-ray】(2Lサイズキャラファイン
 マット（2種セット）+シリアルナンバー入り応募券+ク
 リアカード+他)(株)ポニーキャニオン
LOCATION:
END:VEVENT
END:VCALENDAR
