BEGIN:VCALENDAR
VERSION:2.0
PRODID:-//chikkutakku.com//RDFCal 1.0//EN
X-WR-CALDESC:GoogleカレンダーやiCalendar形式情報を共有シェ
 アしましょう。近所のイベントから全国のイベントま
 で今日のイベント検索やスケジュールを決めるならち
 っくたっく
X-WR-CALNAME:ちっくたっく
X-WR-TIMEZONE:UTC
BEGIN:VEVENT
SUMMARY:DV喫茶ヤメテヨ
DTSTART;VALUE=DATE-TIME:20260424T130000Z
DTEND;VALUE=DATE-TIME:20260424T140000Z
UID:718939511141
DESCRIPTION:【イベント主催者】\n　ばかんす\n【イベント
 内容】\n　ようこそ『DV喫茶ヤメテヨ』へ\n\nここは、“
 関係性”を楽しむための場所。\nただのお客さんでは、
 いられません。\n\nご来店される方へ。\nこの場所には
 守るべきルールがあります。\n従えない場合は、ここに
 は居られません。\n\n【禁止事項】\n・お客様からウェ
 イトレス・黒服へ触れる行為\n（アフター時は個別に確
 認取ってください）\n・40MBより大きいアバターの使用\n
 ・巨大な身長、過度なパーティクルやBGMを流す行為な
 どの迷惑行為\n・関係者以外の動画の撮影及び配信行為
 \n・アフター含めイベント中でのフレンド申請\n・過度
 なスキンシップや迷惑行為\n・NSFW(公序良俗に反するも
 の)に該当する行為およびアバターの使用\n・版権アバ
 ターの使用\n\n★写真撮影OK！\n★X投稿は「#DV喫茶ヤメ
 テヨ」タグで！\n★タグ付きポストでみんなが喜びます
 ！\n【イベントジャンル】\n　店舗系イベント\, ロール
 プレイ\n【参加条件（モデル、人数制限など）】\n　\n
 【参加方法】\n　22時にばかんすへリクイン\n【備考】\n
 　X: https://x.com/DVkissa_VRC
LOCATION:
END:VEVENT
END:VCALENDAR
