BEGIN:VCALENDAR
VERSION:2.0
PRODID:-//chikkutakku.com//RDFCal 1.0//EN
X-WR-CALDESC:GoogleカレンダーやiCalendar形式情報を共有シェ
 アしましょう。近所のイベントから全国のイベントま
 で今日のイベント検索やスケジュールを決めるならち
 っくたっく
X-WR-CALNAME:ちっくたっく
X-WR-TIMEZONE:UTC
BEGIN:VEVENT
SUMMARY:MG WAIKATO: Lunch at THE HELM BAR & KITCHEN
DTSTART;VALUE=DATE-TIME:20260513T233000Z
DTEND;VALUE=DATE-TIME:20260514T020000Z
UID:722680578025
DESCRIPTION:Richard and I have decided that we all should get together for
  a luncheon at the above venue on Thursday the 14th May at 11.30am.This w
 ill take the place of a formal MG club run. For the time being at least. 
 A great opportunity to catch up and discuss and solve\, of course\, world 
 events. We also know there are various opinions on the virtue of club run
 s at the moment from members. So plenty to discuss!Rather than a 'cafe' lu
 nch\, we thought it a good idea to meet somewhere a little different and h
 ence\, 'The Helm'. ( nice and central )There are plenty of food options 
 available and parking shouldn't be a problem.A booking has been made for u
 p to 20 people. With that in mind can you please respond if you would lik
 e to attend\, so I can confirm numbers.Time for a 'catch up'\, so let's ma
 ke it a great 'event'!  Richard &amp\; Paulteamwaikatomg@gmail.com
LOCATION:
END:VEVENT
END:VCALENDAR
