BEGIN:VCALENDAR
VERSION:2.0
PRODID:-//chikkutakku.com//RDFCal 1.0//EN
X-WR-CALDESC:GoogleカレンダーやiCalendar形式情報を共有シェ
 アしましょう。近所のイベントから全国のイベントま
 で今日のイベント検索やスケジュールを決めるならち
 っくたっく
X-WR-CALNAME:ちっくたっく
X-WR-TIMEZONE:UTC
BEGIN:VEVENT
SUMMARY:The Open Cave Monthly Meeting
DTSTART;VALUE=DATE-TIME:20260503T060000Z
DTEND;VALUE=DATE-TIME:20260503T060000Z
UID:723676243091
DESCRIPTION:News\, events and discussions from the Open Cave shard. The lo
 cation changes every month and is announced in TOC’s Discord server:http
 s://discord.gg/u9jc22UFaN
LOCATION:The Open Cave
END:VEVENT
END:VCALENDAR
