BEGIN:VCALENDAR
VERSION:2.0
PRODID:-//chikkutakku.com//RDFCal 1.0//EN
X-WR-CALDESC:GoogleカレンダーやiCalendar形式情報を共有シェ
 アしましょう。近所のイベントから全国のイベントま
 で今日のイベント検索やスケジュールを決めるならち
 っくたっく
X-WR-CALNAME:ちっくたっく
X-WR-TIMEZONE:UTC
BEGIN:VEVENT
SUMMARY:【Android 対応】第2回甘夏たづさ集会
DTSTART;VALUE=DATE-TIME:20260425T130000Z
DTEND;VALUE=DATE-TIME:20260425T140000Z
UID:724490971456
DESCRIPTION:【イベント主催者】\n　いとま-Itoma\n【イベン
 ト内容】\n　缶詰茶房様作成のアバター「甘夏たづさ」
 君の非公式ファン集会です！\n未改変の方も大歓迎です
 のでお気軽にご参加ください！\n【イベントジャンル】
 \n　改変アバター交流会\n【参加条件（モデル、人数制
 限など）】\n　甘夏たづさでのご参加をよろしくお願い
 します\n【参加方法】\n　時間になりましたらTAZUSA.5884 
 のgroup+インスタンスにJOINして下さい！\n【備考】\n　
LOCATION:
END:VEVENT
END:VCALENDAR
