BEGIN:VCALENDAR
VERSION:2.0
PRODID:-//chikkutakku.com//RDFCal 1.0//EN
X-WR-CALDESC:GoogleカレンダーやiCalendar形式情報を共有シェ
 アしましょう。近所のイベントから全国のイベントま
 で今日のイベント検索やスケジュールを決めるならち
 っくたっく
X-WR-CALNAME:ちっくたっく
X-WR-TIMEZONE:UTC
BEGIN:VEVENT
SUMMARY:Daily Notices
DTSTART;VALUE=DATE:20260421
DTEND;VALUE=DATE:20260422
UID:726473188258
DESCRIPTION:Lit Quiz Training for team members- on Friday 24th at lunch ti
 me in H1.University of Victoria are here on Tuesday 21 April in U2 @ 12:50
 . all welcome to join to learn about what they have to offer.Duke of Edinb
 urgh Meetings in G3 (Upstairs in Gym)Bronze - Meet at lunchtime on Wednesd
 ay 22nd AprilSilver and Gold - Meet at lunchtime on Friday 24th AprilMusic
  and performing artsJazz Band - Tues lunchtimesSenior Choir - Tues after s
 chool and Thursday activitiesJunior Choir - Wednesday lunchtimesWhat's on
  - Variety of concerts thorugh Whangārei Music Society (ongoing)- Te W
 aiata Roa – The Long Song with Rob Thorne at the Hundertwasser Art Centr
 e (this Friday)- Keep an eye out for NZ Music Month events on around townD
 rama Opportunity"The Emerging Directors' Programme is a series of intensiv
 es led by industry professionals in the community\, focused on empowering 
 young performers into leadership\, self-direction\, ultimately with the ai
 m that they can begin taking responsibility for their own creative pathwa
 ys. It culminates in an anthology production\, usually a collection of sce
 nes from various plays\, performed at ONEONESIX." - please talk to Mrs Coo
 k or Miss pridham if you are interested. We are looking for hungry young 
 performing artists\, who are keen to give something special a thrash.Play
  it Strange Songwriting Competition entry closing dates (STUDENT LED PROJE
 CT)- Junior Songwriting Competition (yr9-11): 3 May- Peace Project: 24 May
 - Waiata Māori Competition: 28 June- National Songwriting Competition: 26
  July- Album Art Competition: 3 AugustEnter at playitstrange.org.nz/compet
 itions  Calling musicians - Smokefree Rockqest and Smokefree Tangata Bea
 ts Entries/HeatsAccess the Tangata Beats and Rockquest entries hereMore in
 fo about all events available hereN.B. Participation in Play It Strange an
 d Rockquest is entirely student-led. Students are responsible for forming 
 their own groups\, organising rehearsals\, writing and preparing their mat
 erial\, and completing all entry requirements. While the school is support
 ive of students pursuing these opportunities\, there is no direct involvem
 ent from teachers in the preparation or submission process. Gym Weights R
 oom UseThe Weights Room upstairs in the gym is available for students in Y
 ear 9 – 13 to use during lunchtimes. However\, you need to be inducted a
 nd taken through a safety briefing before you can use it. If this is somet
 hing you are interested in\, see the PE teaching staff. +++Rock band Tuto
 rAre you in a rock band and would be keen for tutoring from a professional
  rock musician? Tutoring sessions may be available depending on student in
 terest! See Miss Pridham in U7 for details (fee applies). Drum lessons av
 ailable - email Miss Pridham. +++Kia ora Years 11-13\,I am accepting expr
 essions of interest in regards to the Auckland Writers Festival school tri
 p on Wednesday 13th May (please check if you have a Cambridge External Exa
 mination on this day). You will need to check with your teachers if it's o
 kay to miss the school day. I have 11 seats only. Preference to 13s first.
 Please email or see me if you are interested. tracie.lark@hc.school.nzDAY
  2 WEDNESDAY 13 MAY SECONDARY YEARS 9-13: 10.00am – 10.45am Kiri Te Kan
 awa Theatre Gilbert Enoka10.55am – 11.40am Kiri Te Kanawa Theatre Josh
  Silver11.40am Lunch &amp\; Book Signing12.30pm – 1.15pm Kiri Te Kanawa 
 Theatre Nikita Gill1.25pm – 2.10pm Kiri Te Kanawa Theatre Matariki Ben
 nett &amp\; Manaia Tuwhare-Hoani2.10pm Finish &amp\; Book Signing.We leav
 e around 630am and usually are home around 530pm.MsL:)+++
LOCATION:
END:VEVENT
END:VCALENDAR
