BEGIN:VCALENDAR
VERSION:2.0
PRODID:-//chikkutakku.com//RDFCal 1.0//EN
X-WR-CALDESC:GoogleカレンダーやiCalendar形式情報を共有シェ
 アしましょう。近所のイベントから全国のイベントま
 で今日のイベント検索やスケジュールを決めるならち
 っくたっく
X-WR-CALNAME:ちっくたっく
X-WR-TIMEZONE:UTC
BEGIN:VEVENT
SUMMARY:手掴み酒場 まる連【居酒屋系雑談イベント】
DTSTART;VALUE=DATE-TIME:20260421T130000Z
DTEND;VALUE=DATE-TIME:20260421T140000Z
UID:736300336489
DESCRIPTION:【イベント主催者】\n　LienHuaChang\n【イベント
 内容】\n　今日も一日お疲れ様です！\n常連さんも一見
 さんもまるっとつながる居酒屋系雑談イベント「手掴
 み酒場 まる連」は火曜22:00～開店！\n酒を片手にみんな
 で乾杯！お酒がないならジュースで乾杯！\nみなさんの
 ご来店をお待ちしております！\n【イベントジャンル】
 \n　その他交流会\, VR飲み会\, 店舗系イベント\, 定期イ
 ベント\n【参加条件（モデル、人数制限など）】\n　イ
 ンスタンス上限40人（スタッフ最大4名含む）\n【参加方
 法】\n　グループ「手掴み酒場まる連」（https://vrc.group/
 MALREN.0606）のGroup+にJoin\n【備考】\n　X: @MALREN_VRC
LOCATION:
END:VEVENT
END:VCALENDAR
