BEGIN:VCALENDAR
VERSION:2.0
PRODID:-//chikkutakku.com//RDFCal 1.0//EN
X-WR-CALDESC:GoogleカレンダーやiCalendar形式情報を共有シェ
 アしましょう。近所のイベントから全国のイベントま
 で今日のイベント検索やスケジュールを決めるならち
 っくたっく
X-WR-CALNAME:ちっくたっく
X-WR-TIMEZONE:UTC
BEGIN:VEVENT
SUMMARY:AGRI TECHNICA ASIA
DTSTART;VALUE=DATE:20260519
DTEND;VALUE=DATE:20260522
UID:741723695858
DESCRIPTION:https://agritechnica-asia.com/The Leading trade fair for crop 
 production &amp\; smart farming in Asia
LOCATION:BITEC Bang Na\, Khwaeng Bang Na\, Khet Bang Na\, Krung Thep Maha 
 Nakhon 10260\, Thailand
END:VEVENT
END:VCALENDAR
