BEGIN:VCALENDAR
VERSION:2.0
PRODID:-//chikkutakku.com//RDFCal 1.0//EN
X-WR-CALDESC:GoogleカレンダーやiCalendar形式情報を共有シェ
 アしましょう。近所のイベントから全国のイベントま
 で今日のイベント検索やスケジュールを決めるならち
 っくたっく
X-WR-CALNAME:ちっくたっく
X-WR-TIMEZONE:UTC
BEGIN:VEVENT
SUMMARY:Band Concert (7)
DTSTART;VALUE=DATE-TIME:20260512T230000Z
DTEND;VALUE=DATE-TIME:20260513T023000Z
UID:742430842891
DESCRIPTION:Band Concert (7)
LOCATION:Auditorium
END:VEVENT
END:VCALENDAR
