BEGIN:VCALENDAR
VERSION:2.0
PRODID:-//chikkutakku.com//RDFCal 1.0//EN
X-WR-CALDESC:GoogleカレンダーやiCalendar形式情報を共有シェ
 アしましょう。近所のイベントから全国のイベントま
 で今日のイベント検索やスケジュールを決めるならち
 っくたっく
X-WR-CALNAME:ちっくたっく
X-WR-TIMEZONE:UTC
BEGIN:VEVENT
SUMMARY:Alumnight '2304
DTSTART;VALUE=DATE-TIME:20260424T124500Z
DTEND;VALUE=DATE-TIME:20260424T124500Z
UID:760909287761
DESCRIPTION:Alumnight '2304
LOCATION:
END:VEVENT
END:VCALENDAR
