BEGIN:VCALENDAR
VERSION:2.0
PRODID:-//chikkutakku.com//RDFCal 1.0//EN
X-WR-CALDESC:GoogleカレンダーやiCalendar形式情報を共有シェ
 アしましょう。近所のイベントから全国のイベントま
 で今日のイベント検索やスケジュールを決めるならち
 っくたっく
X-WR-CALNAME:ちっくたっく
X-WR-TIMEZONE:UTC
BEGIN:VEVENT
SUMMARY:Isaiah Kaʻauwai
DTSTART;VALUE=DATE-TIME:20260422T023000Z
DTEND;VALUE=DATE-TIME:20260422T033000Z
UID:762265160776
DESCRIPTION:Added to calendar: 04/20/2026ROOM: OSC 204RESERVATION TITLE:
  Isaiah KaʻauwaiDETAILS: April 21\, 2026 from 4:30 PM to 5:30 PMC
 ontact information for conflicts/questions with the request:REQUESTOR: Is
 aiah K KaauwaiHOST/CONTACT PERSON (IF NOT REQUESTOR):FORM #: 1098SEND CAL
 ENDAR INVITE TO HOST: YesAll requests for OSC rooms are available here (c
 opy and paste the link in a new tab/window if it is not hyperlinked): htt
 ps://hawaii.kualibuild.com/app/builder/#/document-list/60ca787d3010583a4da
 acd2a
LOCATION:
END:VEVENT
END:VCALENDAR
