BEGIN:VCALENDAR
VERSION:2.0
PRODID:-//chikkutakku.com//RDFCal 1.0//EN
X-WR-CALDESC:GoogleカレンダーやiCalendar形式情報を共有シェ
 アしましょう。近所のイベントから全国のイベントま
 で今日のイベント検索やスケジュールを決めるならち
 っくたっく
X-WR-CALNAME:ちっくたっく
X-WR-TIMEZONE:UTC
BEGIN:VEVENT
SUMMARY:【初心者交流場】Bar爺【NLDFES】
DTSTART;VALUE=DATE-TIME:20260423T130000Z
DTEND;VALUE=DATE-TIME:20260423T143000Z
UID:768101970007
DESCRIPTION:【イベント主催者】\n　NoviceLounge\n【イベント
 内容】\n　いつものBar爺がDJイベントに！\nいつもと違
 うBar爺をお楽しみください。\n\n～初心者からベテラン
 まで～\nNoviceLoungeでは初心者のサポートや\n各種イベン
 トの開催、ユーザーイベント開催を支援。\n\n人と人を
 つなぐ場として\nご自由に楽しんでご自由な時にいらし
 てください。\n\n不定期22:00より営業中\n【イベントジャ
 ンル】\n　その他交流会\, 音楽系イベント\, 初心者向け
 イベント\n【参加条件（モデル、人数制限など）】\n　
 禁止事項\n・公序良俗に反する行為\n・視界ジャック\n
 ・高負荷のパーティクル\n・NSFW\n・その他、他の参加者
 への迷惑になり得る行為\n上記等の迷惑行為が確認され
 たのち\n注意・警告後も改善されない場合は\n当グルー
 プイベントへの参加を\nお断りさせて頂く事がございま
 す。\n【参加方法】\n　グループ「Novice Lounge(ID:BARG.2919)
 」に参加し、\nグループインスタンスにjoin\nhttps://t.co/pb
 shwCusTW\n【備考】\n　
LOCATION:
END:VEVENT
END:VCALENDAR
