BEGIN:VCALENDAR
VERSION:2.0
PRODID:-//chikkutakku.com//RDFCal 1.0//EN
X-WR-CALDESC:GoogleカレンダーやiCalendar形式情報を共有シェ
 アしましょう。近所のイベントから全国のイベントま
 で今日のイベント検索やスケジュールを決めるならち
 っくたっく
X-WR-CALNAME:ちっくたっく
X-WR-TIMEZONE:UTC
BEGIN:VEVENT
SUMMARY:ALTTPR League S8 Invitational: To Infinity and Pgog_The Spoilers
DTSTART;VALUE=DATE-TIME:20260421T000000Z
DTEND;VALUE=DATE-TIME:20260421T023000Z
UID:768734142075
DESCRIPTION:A Link to the Past Randomizer Invitational League Season 8\nwi
 llwc vs zelgadissan\nhttp://twitch.tv/SpeedGaming\n\n\n[updated 2026-04-20
 T10:25:41+00:00]
LOCATION:
END:VEVENT
END:VCALENDAR
