BEGIN:VCALENDAR
VERSION:2.0
PRODID:-//chikkutakku.com//RDFCal 1.0//EN
X-WR-CALDESC:GoogleカレンダーやiCalendar形式情報を共有シェ
 アしましょう。近所のイベントから全国のイベントま
 で今日のイベント検索やスケジュールを決めるならち
 っくたっく
X-WR-CALNAME:ちっくたっく
X-WR-TIMEZONE:UTC
BEGIN:VEVENT
SUMMARY:(19時)月刊少年ワサビ
DTSTART;VALUE=DATE:20260425
DTEND;VALUE=DATE:20260426
UID:774825186339
DESCRIPTION:出演：柳家わさび　 \n開場：18時半　開演：19
 時 \n料金：予約・当日2000円 \nご予約はらくごカフ​ェ
 まで　\nrakugocafe@hotm​​ail.co.jp　 \n電話03-6268-9818（​平
 日​12時～18時まで）
LOCATION:
END:VEVENT
END:VCALENDAR
