BEGIN:VCALENDAR
VERSION:2.0
PRODID:-//chikkutakku.com//RDFCal 1.0//EN
X-WR-CALDESC:GoogleカレンダーやiCalendar形式情報を共有シェ
 アしましょう。近所のイベントから全国のイベントま
 で今日のイベント検索やスケジュールを決めるならち
 っくたっく
X-WR-CALNAME:ちっくたっく
X-WR-TIMEZONE:UTC
BEGIN:VEVENT
SUMMARY:貸切/和嶋/弁当33~40弱/
DTSTART;VALUE=DATE-TIME:20260424T090000Z
DTEND;VALUE=DATE-TIME:20260424T100000Z
UID:775038015786
DESCRIPTION:24日金曜ですが、Liveは19時ぐらいからで1？2？
 曲踊り、撮影します。\n演者、TVSTAFF共に17:00入り公開リ
 ハ、\n\n17時入りにして\n18時ぐらいから、スタジオでDVD
 📀を流して数人雑談する。\n\nで、19時〜STARステージ本
 番
LOCATION:
END:VEVENT
END:VCALENDAR
