BEGIN:VCALENDAR
VERSION:2.0
PRODID:-//chikkutakku.com//RDFCal 1.0//EN
X-WR-CALDESC:GoogleカレンダーやiCalendar形式情報を共有シェ
 アしましょう。近所のイベントから全国のイベントま
 で今日のイベント検索やスケジュールを決めるならち
 っくたっく
X-WR-CALNAME:ちっくたっく
X-WR-TIMEZONE:UTC
BEGIN:VEVENT
SUMMARY:St Ephraim New Makri and St. Irene the Great Martyr - Orthros and 
 Divine Liturgy
DTSTART;VALUE=DATE-TIME:20260505T040000Z
DTEND;VALUE=DATE-TIME:20260505T040000Z
UID:780986601201
DESCRIPTION:St Ephraim New Makri and St. Irene the Great Martyr - Orthros 
 and Divine Liturgy
LOCATION:
END:VEVENT
END:VCALENDAR
