BEGIN:VCALENDAR
VERSION:2.0
PRODID:-//chikkutakku.com//RDFCal 1.0//EN
X-WR-CALDESC:GoogleカレンダーやiCalendar形式情報を共有シェ
 アしましょう。近所のイベントから全国のイベントま
 で今日のイベント検索やスケジュールを決めるならち
 っくたっく
X-WR-CALNAME:ちっくたっく
X-WR-TIMEZONE:UTC
BEGIN:VEVENT
SUMMARY:【キャバ】HONEY 爆イケダメ女×防音半個室
DTSTART;VALUE=DATE-TIME:20260428T140000Z
DTEND;VALUE=DATE-TIME:20260428T145900Z
UID:781921728077
DESCRIPTION:【イベント主催者】\n　あまいくせに\n【イベ
 ント内容】\n　《爆イケダメ女》×《全席防音》×《バ
 ニー衣装》\n防音完備の半個室のお席または個室VIPでゆ
 ったり2人の時間を過ごせます。\n20分×2ローテでキャラ
 の違う美女をご堪能いただけます！\n【イベントジャン
 ル】\n　VR飲み会\, 店舗系イベント\, ロールプレイ\, 初
 心者向けイベント\, 定期イベント\n【参加条件（モデル
 、人数制限など）】\n　・18歳以上の男性限定\n・VR環境
 PCVR以上\n・日本語でのvcとuserランク以上必須\n・アバタ
 ー容量40MB以下\n・NSFWに該当する行為や服装禁止\n・男
 性人型アバター以外での参加禁止\n・小さすぎる/大き
 すぎるアバター禁止\n・双方からのフレンド申請禁止\n
 ・暴言⁄暴力⁄誹謗中傷⁄その他迷惑行為禁止\n・無断
 での録画録音、配信や画面共有の禁止\n・他者へ影響す
 るパーティクルやギミック禁止\n【参加方法】\n　事前
 抽選(Xにて通知)\n【備考】\n　X【https://x.com/HONEYVRC_】　
 グループ【https://vrc.group/HNGP.2061】
LOCATION:
END:VEVENT
END:VCALENDAR
