BEGIN:VCALENDAR
VERSION:2.0
PRODID:-//chikkutakku.com//RDFCal 1.0//EN
X-WR-CALDESC:GoogleカレンダーやiCalendar形式情報を共有シェ
 アしましょう。近所のイベントから全国のイベントま
 で今日のイベント検索やスケジュールを決めるならち
 っくたっく
X-WR-CALNAME:ちっくたっく
X-WR-TIMEZONE:UTC
BEGIN:VEVENT
SUMMARY:[教] 段考成績輸入截止 (九)
DTSTART;VALUE=DATE-TIME:20260510T160000Z
DTEND;VALUE=DATE-TIME:20260511T160000Z
UID:788677378987
DESCRIPTION:[教] 段考成績輸入截止 (九)
LOCATION:
END:VEVENT
END:VCALENDAR
