BEGIN:VCALENDAR
VERSION:2.0
PRODID:-//chikkutakku.com//RDFCal 1.0//EN
X-WR-CALDESC:GoogleカレンダーやiCalendar形式情報を共有シェ
 アしましょう。近所のイベントから全国のイベントま
 で今日のイベント検索やスケジュールを決めるならち
 っくたっく
X-WR-CALNAME:ちっくたっく
X-WR-TIMEZONE:UTC
BEGIN:VEVENT
SUMMARY:先にあなたが捨てたのです。さようなら、陰の王
 家と呼ばれた一族は隣国にお引越しします
DTSTART;VALUE=DATE:20260506
DTEND;VALUE=DATE:20260507
UID:789612882472
DESCRIPTION:2026-05-07先にあなたが捨てたのです。さような
 ら、陰の王家と呼ばれた一族は隣国にお引越しします
 十夜スターツ出版
LOCATION:
END:VEVENT
END:VCALENDAR
