BEGIN:VCALENDAR
VERSION:2.0
PRODID:-//chikkutakku.com//RDFCal 1.0//EN
X-WR-CALDESC:GoogleカレンダーやiCalendar形式情報を共有シェ
 アしましょう。近所のイベントから全国のイベントま
 で今日のイベント検索やスケジュールを決めるならち
 っくたっく
X-WR-CALNAME:ちっくたっく
X-WR-TIMEZONE:UTC
BEGIN:VEVENT
SUMMARY:【注】REBORN! ジャンプスーパーアニメツアー2009 
 ボンゴレ式修学旅行、来る！ THE COMPLETE MEMORY
DTSTART;VALUE=DATE-TIME:20260424T023000Z
DTEND;VALUE=DATE-TIME:20260424T030000Z
UID:792843817293
DESCRIPTION: / ジャンプスーパーアニメツアー2009 ボンゴレ
 式修学旅行、来る！ THE COMPLETE MEMORY / https://abema.tv/channel
 s/00s-anime-1/slots/Ah77komLZ77ejy リピート放送は 19:30～ https://
 abema.tv/channels/00s-anime-1/slots/Ah77kp5Gt5ZWTh 、27:30～ https://abe
 ma.tv/channels/00s-anime-1/slots/EvABQFCB9UvVmZ (無料TS1週間) ※ABEMA
 初 https://prtimes.jp/main/html/rd/p/000002968.000064643.html
LOCATION:なつかしアニメ00's
END:VEVENT
END:VCALENDAR
