BEGIN:VCALENDAR
VERSION:2.0
PRODID:-//chikkutakku.com//RDFCal 1.0//EN
X-WR-CALDESC:GoogleカレンダーやiCalendar形式情報を共有シェ
 アしましょう。近所のイベントから全国のイベントま
 で今日のイベント検索やスケジュールを決めるならち
 っくたっく
X-WR-CALNAME:ちっくたっく
X-WR-TIMEZONE:UTC
BEGIN:VEVENT
SUMMARY:すぐに使える！外国人患者受け入れマニュアル : 
 すべての患者が安心できる病院づくりの工夫
DTSTART;VALUE=DATE:20260429
DTEND;VALUE=DATE:20260430
UID:798982987271
DESCRIPTION:2026-04-30すぐに使える！外国人患者受け入れマ
 ニュアル : すべての患者が安心できる病院づくりの工
 夫メヂカルフレンド社
LOCATION:
END:VEVENT
END:VCALENDAR
