BEGIN:VCALENDAR
VERSION:2.0
PRODID:-//chikkutakku.com//RDFCal 1.0//EN
X-WR-CALDESC:GoogleカレンダーやiCalendar形式情報を共有シェ
 アしましょう。近所のイベントから全国のイベントま
 で今日のイベント検索やスケジュールを決めるならち
 っくたっく
X-WR-CALNAME:ちっくたっく
X-WR-TIMEZONE:UTC
BEGIN:VEVENT
SUMMARY:sweet spring memory 1部
DTSTART;VALUE=DATE-TIME:20260421T131500Z
DTEND;VALUE=DATE-TIME:20260421T134500Z
UID:804666703070
DESCRIPTION:【イベント主催者】\n　Ruka0109\n【イベント内
 容】\n　四季をテーマにした1対1デートイベントです\n
 【イベントジャンル】\n　ロールプレイ\, 初心者向けイ
 ベント\n【参加条件（モデル、人数制限など）】\n　人
 型アバター\n【参加方法】\n　Ruka0109にリクイン2回\n【
 備考】\n　初心者の方でも楽しめるイベントとなってお
 ります
LOCATION:
END:VEVENT
END:VCALENDAR
