BEGIN:VCALENDAR
VERSION:2.0
PRODID:-//chikkutakku.com//RDFCal 1.0//EN
X-WR-CALDESC:GoogleカレンダーやiCalendar形式情報を共有シェ
 アしましょう。近所のイベントから全国のイベントま
 で今日のイベント検索やスケジュールを決めるならち
 っくたっく
X-WR-CALNAME:ちっくたっく
X-WR-TIMEZONE:UTC
BEGIN:VEVENT
SUMMARY:【第４６回】静かな寝かしつけ屋～ねんねころん
 ～🐈
DTSTART;VALUE=DATE-TIME:20260423T145900Z
DTEND;VALUE=DATE-TIME:20260423T160000Z
UID:814717193904
DESCRIPTION:【イベント主催者】\n　shinyaw\n【イベント内容
 】\n　癒される環境音を聞きながら、無言勢のお姉さん
 、お兄さん、少年少女たちが１対１で寝かしつけを行
 うイベントです。\n個室完備！音漏れなし！睡眠ギミッ
 クもあるガチV睡イベントです！\n環境音は毎回ランダ
 ム。\n毎回、参加者の8割ほどに寝落ちしていただいて
 います。\n部屋のご希望はJOIN順の早い者勝ちで部屋番
 号でのみ受け付けますので、イベント参加時に仰せく
 ださい。\n各お部屋の担当キャストは備考欄の告知ポス
 トのツリーをご確認くださいませ。\n【イベントジャン
 ル】\n　店舗系イベント\, 音楽系イベント\, ロールプレ
 イ\, 初心者向けイベント\, 定期イベント\n【参加条件（
 モデル、人数制限など）】\n　特になし。\nできればVR
 でご参加ください。\n睡眠システムをワールドに入れて
 いないので、睡眠システムがあるアバターでご参加い
 ただくとよりリラックスしていただけるかと思います
 。\n【参加方法】\n　Group＋インスタンスでの開催です
 。\n以下グループに参加し、時間になったらワールドを
 立てるのでJOINしてください！\nhttps://vrchat.com/home/group/gr
 p_47c3ee2d-c803-4cf8-9718-e8b5758cbb5d\n【備考】\n　https://x.com/Nen
 nekoron0607/
LOCATION:
END:VEVENT
END:VCALENDAR
