BEGIN:VCALENDAR
VERSION:2.0
PRODID:-//chikkutakku.com//RDFCal 1.0//EN
X-WR-CALDESC:GoogleカレンダーやiCalendar形式情報を共有シェ
 アしましょう。近所のイベントから全国のイベントま
 で今日のイベント検索やスケジュールを決めるならち
 っくたっく
X-WR-CALNAME:ちっくたっく
X-WR-TIMEZONE:UTC
BEGIN:VEVENT
SUMMARY:ประชุมเพื่อคัดเลือกบุค
 คลเพื่อรับทุนพัฒนาอาจารย
 ์
DTSTART;VALUE=DATE-TIME:20260421T080000Z
DTEND;VALUE=DATE-TIME:20260421T103000Z
UID:814741386062
DESCRIPTION:ขอเวลารองฯเพื่อพิจาร
 ณาทุนการศึกษา วันที่ 21 เมย 69
   เวลา 14.30 - 17.00 น.\nพี่ไก่ ประสาน
 เมื่อ 10-04-69\n\nเรียน รองอธิการบ
 ดีฝ่ายวิชาการและการเรียน
 รู้\nฝ่ายบริหารทรัพยากรบุค
 คล เชิญเข้าร่วมประชุมเพื่
 อคัดเลือกบุคคลเพื่อรับทุ
 นพัฒนาอาจารย์ ในวันที่ 21 เม
 ษายน 2569 เวลา 16.00 น. ณ ห้อง Hybrid Learning
  (18712) ชั้น 7 อาคาร 50 ปี มหาวิทยา
 ลัยทักษิณ วิทยาเขตสงขลา\nใ
 นวันเวลาดังกล่าวตามปฏิทิ
 น ท่านรองฯ ไม่มีภารกิจอื่น
 ใด\nจึงเรียนมาเพื่อโปรดพิจ
 ารณา\n\nจิตรา ลงเมื่อ 17-04-69
LOCATION:ห้อง Hybrid Learning (18712) ชั้น 7 อาคา
 ร 50 ปี มหาวิทยาลัยทักษิณ วิ
 ทยาเขตสงขลา
END:VEVENT
END:VCALENDAR
