BEGIN:VCALENDAR
VERSION:2.0
PRODID:-//chikkutakku.com//RDFCal 1.0//EN
X-WR-CALDESC:GoogleカレンダーやiCalendar形式情報を共有シェ
 アしましょう。近所のイベントから全国のイベントま
 で今日のイベント検索やスケジュールを決めるならち
 っくたっく
X-WR-CALNAME:ちっくたっく
X-WR-TIMEZONE:UTC
BEGIN:VEVENT
SUMMARY:淡色髪男性アバター集会【初見初心者歓迎】
DTSTART;VALUE=DATE-TIME:20260424T130000Z
DTEND;VALUE=DATE-TIME:20260424T140000Z
UID:814795217438
DESCRIPTION:【イベント主催者】\n　ぬつ\n【イベント内容
 】\n　白髪メンズ集まれ～！\n白髪や淡い髪色の男性ア
 バターで集まる集会です。\n\n自由な雑談形式、途中入
 退室OKです。\nぜひお気軽に覗きに来てみてください！\
 n\n【イベントジャンル】\n　改変アバター交流会\, その
 他交流会\n【参加条件（モデル、人数制限など）】\n　
 ドレスコードは\n・なんか淡い色の髪色であること\n　
 （迷ったら白髪推奨。金髪のように色つきでも淡けれ
 ばOK）\n・男性アバター（男の子化も可）であること\n
 の2点になります。\n\nサンプルアバターでもOKです。\n50
 MBより軽いアバターでお越しください。\n\n【参加方法
 】\n　時間になったらGroup+インスタンスを開きます。\n
 グループページなどからjoinしてください。\n\n【備考】
 \n　■グループ\nhttps://vrc.group/WHMAG.0708
LOCATION:
END:VEVENT
END:VCALENDAR
