BEGIN:VCALENDAR
VERSION:2.0
PRODID:-//chikkutakku.com//RDFCal 1.0//EN
X-WR-CALDESC:GoogleカレンダーやiCalendar形式情報を共有シェ
 アしましょう。近所のイベントから全国のイベントま
 で今日のイベント検索やスケジュールを決めるならち
 っくたっく
X-WR-CALNAME:ちっくたっく
X-WR-TIMEZONE:UTC
BEGIN:VEVENT
SUMMARY:2026年度 最短合格 貸金主任者試験ポイント50 切り
 離せる模擬試験付
DTSTART;VALUE=DATE:20260519
DTEND;VALUE=DATE:20260520
UID:818820281586
DESCRIPTION:2026-05-202026年度 最短合格 貸金主任者試験ポイ
 ント50 切り離せる模擬試験付（一社）金融財政事情研
 究会教育研修事業部/清水将博金融財政事情研究会
LOCATION:
END:VEVENT
END:VCALENDAR
