BEGIN:VCALENDAR
VERSION:2.0
PRODID:-//chikkutakku.com//RDFCal 1.0//EN
X-WR-CALDESC:GoogleカレンダーやiCalendar形式情報を共有シェ
 アしましょう。近所のイベントから全国のイベントま
 で今日のイベント検索やスケジュールを決めるならち
 っくたっく
X-WR-CALNAME:ちっくたっく
X-WR-TIMEZONE:UTC
BEGIN:VEVENT
SUMMARY:車馬駄馬(ｼｬﾊﾞﾀﾞﾊﾞ)セッション@西荻w.jaz
DTSTART;VALUE=DATE:20260507
DTEND;VALUE=DATE:20260508
UID:819320966519
DESCRIPTION:19:00オープン/集まり次第ぼちぼちと　¥2000＋2o
 rder\n一発もんやブルース、歌もの何でもありセッショ
 ン！(^^)\n自分のできるもので楽しく遊びましょう❣全
 パート募集中！
LOCATION:w.jaz\, 日本、〒167-0053 東京都杉並区西荻南３丁目
 ７−６ サンパレス西荻Ⅱ B-101
END:VEVENT
END:VCALENDAR
