BEGIN:VCALENDAR
VERSION:2.0
PRODID:-//chikkutakku.com//RDFCal 1.0//EN
X-WR-CALDESC:GoogleカレンダーやiCalendar形式情報を共有シェ
 アしましょう。近所のイベントから全国のイベントま
 で今日のイベント検索やスケジュールを決めるならち
 っくたっく
X-WR-CALNAME:ちっくたっく
X-WR-TIMEZONE:UTC
BEGIN:VEVENT
SUMMARY:(รองอรรถวุฒิ)กล่าวต้อนร
 ับคณะเจ้าหน้าที่สศูนย์สน
 ับสนุนบริการสุขภาพที่10 ปร
 ะชุมนิเทศ ติดตามเยี่ยมเสร
 ิมพลังและประเมินผลการดำเ
 นินงานสุขศึกษาและสุขภาพภ
 าคประชาชน เขตสุขภาพที่10 ณ ห
 ้องจริยธรรม ชั้น3 สสจ.ศก.
DTSTART;VALUE=DATE-TIME:20260421T020000Z
DTEND;VALUE=DATE-TIME:20260421T093000Z
UID:822984921201
DESCRIPTION:(รองอรรถวุฒิ)กล่าวต้อน
 รับคณะเจ้าหน้าที่สศูนย์ส
 นับสนุนบริการสุขภาพที่10 ป
 ระชุมนิเทศ ติดตามเยี่ยมเส
 ริมพลังและประเมินผลการดำ
 เนินงานสุขศึกษาและสุขภาพ
 ภาคประชาชน เขตสุขภาพที่10 ณ 
 ห้องจริยธรรม ชั้น3 สสจ.ศก.
LOCATION:
END:VEVENT
END:VCALENDAR
