BEGIN:VCALENDAR
VERSION:2.0
PRODID:-//chikkutakku.com//RDFCal 1.0//EN
X-WR-CALDESC:GoogleカレンダーやiCalendar形式情報を共有シェ
 アしましょう。近所のイベントから全国のイベントま
 で今日のイベント検索やスケジュールを決めるならち
 っくたっく
X-WR-CALNAME:ちっくたっく
X-WR-TIMEZONE:UTC
BEGIN:VEVENT
SUMMARY:日本演劇学会：近現代演劇研究会4月例会（2026年4
 月25日（土）14時〜、大阪大学中之島芸術センター３階
 スタジオ）
DTSTART;VALUE=DATE:20260424
DTEND;VALUE=DATE:20260425
UID:828834073820
DESCRIPTION:https://bungaku-report.com/blog/2026/04/4202642514.html
LOCATION:
END:VEVENT
END:VCALENDAR
