BEGIN:VCALENDAR
VERSION:2.0
PRODID:-//chikkutakku.com//RDFCal 1.0//EN
X-WR-CALDESC:GoogleカレンダーやiCalendar形式情報を共有シェ
 アしましょう。近所のイベントから全国のイベントま
 で今日のイベント検索やスケジュールを決めるならち
 っくたっく
X-WR-CALNAME:ちっくたっく
X-WR-TIMEZONE:UTC
BEGIN:VEVENT
SUMMARY:【Android 対応】土曜朝ゲーム部（はるかぜにjoin）
DTSTART;VALUE=DATE-TIME:20260424T233000Z
DTEND;VALUE=DATE-TIME:20260425T003000Z
UID:831136955734
DESCRIPTION:【イベント主催者】\n　はるかぜ\n【イベント
 内容】\n　今回は『スコフィごいた』をやります\nルー
 ル説明から行いますので初心者さんでも歓迎です♪\n【
 イベントジャンル】\n　その他交流会\, 定期イベント\n
 【参加条件（モデル、人数制限など）】\n　\n【参加方
 法】\n　はるかぜにjoin\n【備考】\n　https://x.com/hlkz/status
 /2047662337382084787?s=20
LOCATION:
END:VEVENT
END:VCALENDAR
