BEGIN:VCALENDAR
VERSION:2.0
PRODID:-//chikkutakku.com//RDFCal 1.0//EN
X-WR-CALDESC:GoogleカレンダーやiCalendar形式情報を共有シェ
 アしましょう。近所のイベントから全国のイベントま
 で今日のイベント検索やスケジュールを決めるならち
 っくたっく
X-WR-CALNAME:ちっくたっく
X-WR-TIMEZONE:UTC
BEGIN:VEVENT
SUMMARY:Hockey Versus Parel Vallei (H)
DTSTART;VALUE=DATE-TIME:20260523T060000Z
DTEND;VALUE=DATE-TIME:20260523T110000Z
UID:831250010353
DESCRIPTION:Hockey Versus Parel Vallei (H)
LOCATION:SACS Hockey Astro Turf\, Newlands\, Cape Town\, 7700\, South Afri
 ca\, Hockey Astro
END:VEVENT
END:VCALENDAR
